BEGIN:VCALENDAR
VERSION:2.0
PRODID:-//Richmond Memorial Health Foundation - ECPv6.15.20//NONSGML v1.0//EN
CALSCALE:GREGORIAN
METHOD:PUBLISH
X-ORIGINAL-URL:https://rmhfoundation.org
X-WR-CALDESC:Events for Richmond Memorial Health Foundation
REFRESH-INTERVAL;VALUE=DURATION:PT1H
X-Robots-Tag:noindex
X-PUBLISHED-TTL:PT1H
BEGIN:VTIMEZONE
TZID:America/New_York
BEGIN:DAYLIGHT
TZOFFSETFROM:-0500
TZOFFSETTO:-0400
TZNAME:EDT
DTSTART:20240310T070000
END:DAYLIGHT
BEGIN:STANDARD
TZOFFSETFROM:-0400
TZOFFSETTO:-0500
TZNAME:EST
DTSTART:20241103T060000
END:STANDARD
BEGIN:DAYLIGHT
TZOFFSETFROM:-0500
TZOFFSETTO:-0400
TZNAME:EDT
DTSTART:20250309T070000
END:DAYLIGHT
BEGIN:STANDARD
TZOFFSETFROM:-0400
TZOFFSETTO:-0500
TZNAME:EST
DTSTART:20251102T060000
END:STANDARD
BEGIN:DAYLIGHT
TZOFFSETFROM:-0500
TZOFFSETTO:-0400
TZNAME:EDT
DTSTART:20260308T070000
END:DAYLIGHT
BEGIN:STANDARD
TZOFFSETFROM:-0400
TZOFFSETTO:-0500
TZNAME:EST
DTSTART:20261101T060000
END:STANDARD
BEGIN:DAYLIGHT
TZOFFSETFROM:-0500
TZOFFSETTO:-0400
TZNAME:EDT
DTSTART:20270314T070000
END:DAYLIGHT
BEGIN:STANDARD
TZOFFSETFROM:-0400
TZOFFSETTO:-0500
TZNAME:EST
DTSTART:20271107T060000
END:STANDARD
END:VTIMEZONE
BEGIN:VEVENT
DTSTART;TZID=America/New_York:20251105T110000
DTEND;TZID=America/New_York:20251105T130000
DTSTAMP:20260421T095946
CREATED:20251018T193015Z
LAST-MODIFIED:20251020T162040Z
UID:16619-1762340400-1762347600@rmhfoundation.org
SUMMARY:Project Engagement: Session 2 - Chronic Disease
DESCRIPTION:
URL:https://rmhfoundation.org/event/project-engagement-session-two/
CATEGORIES:Meetings
END:VEVENT
BEGIN:VEVENT
DTSTART;TZID=America/New_York:20251110T140000
DTEND;TZID=America/New_York:20251110T160000
DTSTAMP:20260421T095946
CREATED:20250729T142113Z
LAST-MODIFIED:20251018T193357Z
UID:16546-1762783200-1762790400@rmhfoundation.org
SUMMARY:Meeting
DESCRIPTION:
URL:https://rmhfoundation.org/event/meeting-9/
LOCATION:RMHF
CATEGORIES:Meetings
END:VEVENT
BEGIN:VEVENT
DTSTART;TZID=America/New_York:20251203T110000
DTEND;TZID=America/New_York:20251203T130000
DTSTAMP:20260421T095946
CREATED:20251018T193124Z
LAST-MODIFIED:20251020T162108Z
UID:16621-1764759600-1764766800@rmhfoundation.org
SUMMARY:Project Engagement: Session 3 - Behavioral Health
DESCRIPTION:
URL:https://rmhfoundation.org/event/project-engagement-session-3/
CATEGORIES:Meetings
END:VEVENT
BEGIN:VEVENT
DTSTART;TZID=America/New_York:20260310T140000
DTEND;TZID=America/New_York:20260310T160000
DTSTAMP:20260421T095946
CREATED:20260206T183655Z
LAST-MODIFIED:20260206T183655Z
UID:16699-1773151200-1773158400@rmhfoundation.org
SUMMARY:Meeting
DESCRIPTION:
URL:https://rmhfoundation.org/event/meeting-10/
LOCATION:RMHF
CATEGORIES:Meetings
END:VEVENT
BEGIN:VEVENT
DTSTART;TZID=America/New_York:20260512T140000
DTEND;TZID=America/New_York:20260512T160000
DTSTAMP:20260421T095946
CREATED:20260206T183806Z
LAST-MODIFIED:20260206T183806Z
UID:16701-1778594400-1778601600@rmhfoundation.org
SUMMARY:Meeting
DESCRIPTION:
URL:https://rmhfoundation.org/event/meeting-11/
LOCATION:RMHF
CATEGORIES:Meetings
END:VEVENT
BEGIN:VEVENT
DTSTART;TZID=America/New_York:20260714T140000
DTEND;TZID=America/New_York:20260714T160000
DTSTAMP:20260421T095946
CREATED:20260206T183848Z
LAST-MODIFIED:20260206T183848Z
UID:16703-1784037600-1784044800@rmhfoundation.org
SUMMARY:Meeting
DESCRIPTION:
URL:https://rmhfoundation.org/event/meeting-12/
LOCATION:RMHF
CATEGORIES:Meetings
END:VEVENT
BEGIN:VEVENT
DTSTART;TZID=America/New_York:20260908T140000
DTEND;TZID=America/New_York:20260908T160000
DTSTAMP:20260421T095946
CREATED:20260206T183929Z
LAST-MODIFIED:20260206T183929Z
UID:16705-1788876000-1788883200@rmhfoundation.org
SUMMARY:Meeting
DESCRIPTION:
URL:https://rmhfoundation.org/event/meeting-13/
LOCATION:RMHF
CATEGORIES:Meetings
END:VEVENT
BEGIN:VEVENT
DTSTART;TZID=America/New_York:20261110T140000
DTEND;TZID=America/New_York:20261110T160000
DTSTAMP:20260421T095946
CREATED:20260206T184014Z
LAST-MODIFIED:20260206T184014Z
UID:16707-1794319200-1794326400@rmhfoundation.org
SUMMARY:Meeting
DESCRIPTION:
URL:https://rmhfoundation.org/event/meeting-14/
LOCATION:RMHF
CATEGORIES:Meetings
END:VEVENT
END:VCALENDAR